Package: factR Version: 1.0.0 Command: chmod a+r factR -R && F:\biocbuild\bbs-3.16-bioc\R\bin\R.exe CMD build --keep-empty-dirs --no-resave-data factR StartedAt: 2023-04-10 18:37:18 -0400 (Mon, 10 Apr 2023) EndedAt: 2023-04-10 18:40:49 -0400 (Mon, 10 Apr 2023) EllapsedTime: 210.3 seconds RetCode: 0 Status: OK PackageFile: factR_1.0.0.tar.gz PackageFileSize: 1.379 MiB