Package: factR Version: 1.0.0 Command: rm -rf factR.buildbin-libdir && mkdir factR.buildbin-libdir && F:\biocbuild\bbs-3.16-bioc\R\bin\R.exe CMD INSTALL --build --library=factR.buildbin-libdir factR_1.0.0.tar.gz StartedAt: 2023-04-11 07:58:54 -0400 (Tue, 11 Apr 2023) EndedAt: 2023-04-11 07:59:07 -0400 (Tue, 11 Apr 2023) EllapsedTime: 13.4 seconds RetCode: 0 Status: OK PackageFile: factR_1.0.0.zip PackageFileSize: 1.463 MiB