Package: factR Version: 1.0.0 Command: /home/biocbuild/bbs-3.16-bioc/R/bin/R CMD check --install=check:factR.install-out.txt --library=/home/biocbuild/bbs-3.16-bioc/R/site-library --timings factR_1.0.0.tar.gz StartedAt: 2023-04-10 20:39:52 -0400 (Mon, 10 Apr 2023) EndedAt: 2023-04-10 20:44:48 -0400 (Mon, 10 Apr 2023) EllapsedTime: 296.7 seconds RetCode: 0 Status: OK CheckDir: factR.Rcheck Warnings: 0