Package: factR Version: 1.0.0 Command: /home/biocbuild/bbs-3.16-bioc/R/bin/R CMD build --keep-empty-dirs --no-resave-data factR StartedAt: 2023-04-10 16:44:12 -0400 (Mon, 10 Apr 2023) EndedAt: 2023-04-10 16:46:37 -0400 (Mon, 10 Apr 2023) EllapsedTime: 145.0 seconds RetCode: 0 Status: OK PackageFile: factR_1.0.0.tar.gz PackageFileSize: 1.676 MiB