Package: factR Version: 1.0.0 Command: rm -rf factR.buildbin-libdir && mkdir factR.buildbin-libdir && /Users/biocbuild/BBS/utils/build-universal.sh factR_1.0.0.tar.gz /Library/Frameworks/R.framework/Resources/bin/R factR.buildbin-libdir StartedAt: 2023-04-10 23:43:16 -0400 (Mon, 10 Apr 2023) EndedAt: 2023-04-10 23:43:30 -0400 (Mon, 10 Apr 2023) EllapsedTime: 13.7 seconds RetCode: 0 Status: OK PackageFile: factR_1.0.0.tgz PackageFileSize: 1.74 MiB