Package: factR Version: 0.99.7 Command: /Library/Frameworks/R.framework/Resources/bin/R CMD INSTALL factR StartedAt: 2022-07-10 18:52:38 -0400 (Sun, 10 Jul 2022) EndedAt: 2022-07-10 18:52:39 -0400 (Sun, 10 Jul 2022) EllapsedTime: 1.4 seconds RetCode: 1 Status: ERROR