Package: factR Version: 0.99.7 Command: /Library/Frameworks/R.framework/Resources/bin/R CMD build --keep-empty-dirs --no-resave-data factR StartedAt: 2022-07-06 20:45:27 -0400 (Wed, 06 Jul 2022) EndedAt: 2022-07-06 20:45:28 -0400 (Wed, 06 Jul 2022) EllapsedTime: 1.1 seconds RetCode: 1 Status: ERROR PackageFile: None PackageFileSize: NA