############################################################################## ############################################################################## ### ### Running command: ### ### /Library/Frameworks/R.framework/Resources/bin/R CMD build --keep-empty-dirs --no-resave-data factR ### ############################################################################## ############################################################################## * checking for file ‘factR/DESCRIPTION’ ... OK * preparing ‘factR’: * checking DESCRIPTION meta-information ... OK * installing the package to build vignettes ----------------------------------- ERROR: dependencies ‘GenomicFeatures’, ‘rtracklayer’, ‘wiggleplotr’ are not available for package ‘factR’ * removing ‘/private/tmp/Rtmp2rtRRR/Rinst130305730d1b8/factR’ ----------------------------------- ERROR: package installation failed