Package: epialleleR Version: 1.6.1 Command: /Library/Frameworks/R.framework/Resources/bin/R CMD INSTALL epialleleR StartedAt: 2023-04-10 15:31:20 -0400 (Mon, 10 Apr 2023) EndedAt: 2023-04-10 15:33:03 -0400 (Mon, 10 Apr 2023) EllapsedTime: 102.8 seconds RetCode: 0 Status: OK