Package: epiNEM Version: 1.22.0 Command: F:\biocbuild\bbs-3.16-bioc\R\bin\R.exe CMD check --no-multiarch --install=check:epiNEM.install-out.txt --library=F:\biocbuild\bbs-3.16-bioc\R\library --no-vignettes --timings epiNEM_1.22.0.tar.gz StartedAt: 2023-04-11 01:15:18 -0400 (Tue, 11 Apr 2023) EndedAt: 2023-04-11 01:18:10 -0400 (Tue, 11 Apr 2023) EllapsedTime: 172.2 seconds RetCode: 0 Status: OK CheckDir: epiNEM.Rcheck Warnings: 0