Package: epiNEM Version: 1.22.0 Command: chmod a+r epiNEM -R && F:\biocbuild\bbs-3.16-bioc\R\bin\R.exe CMD build --keep-empty-dirs --no-resave-data epiNEM StartedAt: 2023-04-10 18:29:20 -0400 (Mon, 10 Apr 2023) EndedAt: 2023-04-10 18:34:28 -0400 (Mon, 10 Apr 2023) EllapsedTime: 308.0 seconds RetCode: 0 Status: OK PackageFile: epiNEM_1.22.0.tar.gz PackageFileSize: 896.8 KiB