Package: enrichTF Version: 1.14.0 Command: rm -rf enrichTF.buildbin-libdir && mkdir enrichTF.buildbin-libdir && F:\biocbuild\bbs-3.16-bioc\R\bin\R.exe CMD INSTALL --build --library=enrichTF.buildbin-libdir enrichTF_1.14.0.tar.gz StartedAt: 2023-04-11 07:57:03 -0400 (Tue, 11 Apr 2023) EndedAt: 2023-04-11 07:58:02 -0400 (Tue, 11 Apr 2023) EllapsedTime: 59.4 seconds RetCode: 0 Status: OK PackageFile: enrichTF_1.14.0.zip PackageFileSize: 1.569 MiB