Package: eegc Version: 1.24.0 Command: /Library/Frameworks/R.framework/Resources/bin/R CMD INSTALL eegc StartedAt: 2023-04-10 15:27:17 -0400 (Mon, 10 Apr 2023) EndedAt: 2023-04-10 15:28:08 -0400 (Mon, 10 Apr 2023) EllapsedTime: 50.4 seconds RetCode: 0 Status: OK