Package: edgeR Version: 3.40.2 Command: F:\biocbuild\bbs-3.16-bioc\R\bin\R.exe CMD check --no-multiarch --install=check:edgeR.install-out.txt --library=F:\biocbuild\bbs-3.16-bioc\R\library --no-vignettes --timings edgeR_3.40.2.tar.gz StartedAt: 2023-04-11 01:08:09 -0400 (Tue, 11 Apr 2023) EndedAt: 2023-04-11 01:10:02 -0400 (Tue, 11 Apr 2023) EllapsedTime: 112.8 seconds RetCode: 0 Status: OK CheckDir: edgeR.Rcheck Warnings: 0