Package: dagLogo Version: 1.36.0 Command: /Library/Frameworks/R.framework/Resources/bin/R CMD check --install=check:dagLogo.install-out.txt --library=/Library/Frameworks/R.framework/Resources/library --no-vignettes --timings dagLogo_1.36.0.tar.gz StartedAt: 2023-04-10 19:44:03 -0400 (Mon, 10 Apr 2023) EndedAt: 2023-04-10 19:49:15 -0400 (Mon, 10 Apr 2023) EllapsedTime: 312.0 seconds RetCode: 0 Status: OK CheckDir: dagLogo.Rcheck Warnings: 0