Package: cycle Version: 1.52.0 Command: /Library/Frameworks/R.framework/Resources/bin/R CMD build --keep-empty-dirs --no-resave-data cycle StartedAt: 2023-04-10 16:17:31 -0400 (Mon, 10 Apr 2023) EndedAt: 2023-04-10 16:18:01 -0400 (Mon, 10 Apr 2023) EllapsedTime: 30.5 seconds RetCode: 0 Status: OK PackageFile: cycle_1.52.0.tar.gz PackageFileSize: 247.3 KiB