Package: ctgGEM Version: 1.9.1 Command: /Library/Frameworks/R.framework/Resources/bin/R CMD INSTALL ctgGEM StartedAt: 2022-07-10 16:44:59 -0400 (Sun, 10 Jul 2022) EndedAt: 2022-07-10 16:45:01 -0400 (Sun, 10 Jul 2022) EllapsedTime: 2.3 seconds RetCode: 1 Status: ERROR