Package: crlmm Version: 1.56.0 Command: /Library/Frameworks/R.framework/Resources/bin/R CMD build --keep-empty-dirs --no-resave-data crlmm StartedAt: 2023-04-10 16:16:33 -0400 (Mon, 10 Apr 2023) EndedAt: 2023-04-10 16:18:24 -0400 (Mon, 10 Apr 2023) EllapsedTime: 110.8 seconds RetCode: 0 Status: OK PackageFile: crlmm_1.56.0.tar.gz PackageFileSize: 4.275 MiB