Package: crlmm Version: 1.56.0 Command: rm -rf crlmm.buildbin-libdir && mkdir crlmm.buildbin-libdir && /Users/biocbuild/BBS/utils/build-universal.sh crlmm_1.56.0.tar.gz /Library/Frameworks/R.framework/Resources/bin/R crlmm.buildbin-libdir StartedAt: 2023-04-10 23:39:01 -0400 (Mon, 10 Apr 2023) EndedAt: 2023-04-10 23:39:46 -0400 (Mon, 10 Apr 2023) EllapsedTime: 45.9 seconds RetCode: 0 Status: OK PackageFile: crlmm_1.56.0.tgz PackageFileSize: 5.255 MiB