Package: covRNA Version: 1.24.0 Command: /home/biocbuild/bbs-3.16-bioc/R/bin/R CMD check --install=check:covRNA.install-out.txt --library=/home/biocbuild/bbs-3.16-bioc/R/site-library --timings covRNA_1.24.0.tar.gz StartedAt: 2023-04-10 19:59:51 -0400 (Mon, 10 Apr 2023) EndedAt: 2023-04-10 20:03:49 -0400 (Mon, 10 Apr 2023) EllapsedTime: 237.8 seconds RetCode: 0 Status: OK CheckDir: covRNA.Rcheck Warnings: 0