Package: cosmosR Version: 1.6.0 Command: /Library/Frameworks/R.framework/Resources/bin/R CMD check --install=check:cosmosR.install-out.txt --library=/Library/Frameworks/R.framework/Resources/library --no-vignettes --timings cosmosR_1.6.0.tar.gz StartedAt: 2023-04-10 19:37:37 -0400 (Mon, 10 Apr 2023) EndedAt: 2023-04-10 19:38:40 -0400 (Mon, 10 Apr 2023) EllapsedTime: 62.4 seconds RetCode: 0 Status: OK CheckDir: cosmosR.Rcheck Warnings: 0