Package: coRdon Version: 1.16.0 Command: F:\biocbuild\bbs-3.16-bioc\R\bin\R.exe CMD check --no-multiarch --install=check:coRdon.install-out.txt --library=F:\biocbuild\bbs-3.16-bioc\R\library --no-vignettes --timings coRdon_1.16.0.tar.gz StartedAt: 2023-04-11 00:22:19 -0400 (Tue, 11 Apr 2023) EndedAt: 2023-04-11 00:24:23 -0400 (Tue, 11 Apr 2023) EllapsedTime: 124.2 seconds RetCode: 0 Status: OK CheckDir: coRdon.Rcheck Warnings: 0