Package: coMethDMR Version: 1.2.0 Command: /Library/Frameworks/R.framework/Resources/bin/R CMD INSTALL coMethDMR StartedAt: 2023-04-10 15:30:21 -0400 (Mon, 10 Apr 2023) EndedAt: 2023-04-10 15:31:18 -0400 (Mon, 10 Apr 2023) EllapsedTime: 57.6 seconds RetCode: 0 Status: OK