Package: cisPath Version: 1.38.0 Command: /Library/Frameworks/R.framework/Resources/bin/R CMD check --install=check:cisPath.install-out.txt --library=/Library/Frameworks/R.framework/Resources/library --no-vignettes --timings cisPath_1.38.0.tar.gz StartedAt: 2023-04-10 19:24:23 -0400 (Mon, 10 Apr 2023) EndedAt: 2023-04-10 19:24:54 -0400 (Mon, 10 Apr 2023) EllapsedTime: 30.6 seconds RetCode: 0 Status: WARNINGS CheckDir: cisPath.Rcheck Warnings: 1