Package: celaref Version: 1.15.0 Command: /Library/Frameworks/R.framework/Resources/bin/R CMD INSTALL celaref StartedAt: 2022-07-10 17:31:42 -0400 (Sun, 10 Jul 2022) EndedAt: 2022-07-10 17:33:08 -0400 (Sun, 10 Jul 2022) EllapsedTime: 86.1 seconds RetCode: 0 Status: OK