Package: canceR Version: 1.32.0 Command: rm -rf canceR.buildbin-libdir && mkdir canceR.buildbin-libdir && /Users/biocbuild/BBS/utils/build-universal.sh canceR_1.32.0.tar.gz /Library/Frameworks/R.framework/Resources/bin/R canceR.buildbin-libdir StartedAt: 2023-04-10 23:35:22 -0400 (Mon, 10 Apr 2023) EndedAt: 2023-04-10 23:36:46 -0400 (Mon, 10 Apr 2023) EllapsedTime: 83.9 seconds RetCode: 0 Status: OK PackageFile: canceR_1.32.0.tgz PackageFileSize: 14.02 MiB