Package: cBioPortalData Version: 2.10.3 Command: F:\biocbuild\bbs-3.16-bioc\R\bin\R.exe CMD check --no-multiarch --install=check:cBioPortalData.install-out.txt --library=F:\biocbuild\bbs-3.16-bioc\R\library --no-vignettes --timings cBioPortalData_2.10.3.tar.gz StartedAt: 2023-04-10 23:42:16 -0400 (Mon, 10 Apr 2023) EndedAt: 2023-04-10 23:47:34 -0400 (Mon, 10 Apr 2023) EllapsedTime: 317.9 seconds RetCode: 0 Status: OK CheckDir: cBioPortalData.Rcheck Warnings: 0