Package: biodbChebi Version: 1.3.0 Command: /Library/Frameworks/R.framework/Resources/bin/R CMD build --keep-empty-dirs --no-resave-data biodbChebi StartedAt: 2022-07-10 22:19:11 -0400 (Sun, 10 Jul 2022) EndedAt: 2022-07-10 22:19:46 -0400 (Sun, 10 Jul 2022) EllapsedTime: 35.2 seconds RetCode: 0 Status: OK PackageFile: biodbChebi_1.3.0.tar.gz PackageFileSize: 297.3 KiB