Package: bambu Version: 3.0.8 Command: F:\biocbuild\bbs-3.16-bioc\R\bin\R.exe CMD INSTALL bambu StartedAt: 2023-04-10 16:18:28 -0400 (Mon, 10 Apr 2023) EndedAt: 2023-04-10 16:19:41 -0400 (Mon, 10 Apr 2023) EllapsedTime: 72.8 seconds RetCode: 0 Status: OK