Package: bambu Version: 3.0.8 Command: F:\biocbuild\bbs-3.16-bioc\R\bin\R.exe CMD check --no-multiarch --install=check:bambu.install-out.txt --library=F:\biocbuild\bbs-3.16-bioc\R\library --no-vignettes --timings bambu_3.0.8.tar.gz StartedAt: 2023-04-10 23:00:56 -0400 (Mon, 10 Apr 2023) EndedAt: 2023-04-10 23:08:55 -0400 (Mon, 10 Apr 2023) EllapsedTime: 478.3 seconds RetCode: 0 Status: OK CheckDir: bambu.Rcheck Warnings: 0