Package: artMS Version: 1.16.0 Command: chmod a+r artMS -R && F:\biocbuild\bbs-3.16-bioc\R\bin\R.exe CMD build --keep-empty-dirs --no-resave-data artMS StartedAt: 2023-04-10 17:03:56 -0400 (Mon, 10 Apr 2023) EndedAt: 2023-04-10 17:04:57 -0400 (Mon, 10 Apr 2023) EllapsedTime: 60.3 seconds RetCode: 0 Status: OK PackageFile: artMS_1.16.0.tar.gz PackageFileSize: 3.498 MiB