Package: artMS Version: 1.16.0 Command: /home/biocbuild/bbs-3.16-bioc/R/bin/R CMD check --install=check:artMS.install-out.txt --library=/home/biocbuild/bbs-3.16-bioc/R/site-library --timings artMS_1.16.0.tar.gz StartedAt: 2023-04-10 19:01:22 -0400 (Mon, 10 Apr 2023) EndedAt: 2023-04-10 19:04:32 -0400 (Mon, 10 Apr 2023) EllapsedTime: 190.0 seconds RetCode: 0 Status: OK CheckDir: artMS.Rcheck Warnings: 0