Package: alevinQC Version: 1.14.0 Command: /Library/Frameworks/R.framework/Resources/bin/R CMD INSTALL alevinQC StartedAt: 2023-04-10 15:21:21 -0400 (Mon, 10 Apr 2023) EndedAt: 2023-04-10 15:21:40 -0400 (Mon, 10 Apr 2023) EllapsedTime: 18.7 seconds RetCode: 0 Status: OK