Package: affycomp Version: 1.74.0 Command: /home/biocbuild/bbs-3.16-bioc/R/bin/R CMD build --keep-empty-dirs --no-resave-data affycomp StartedAt: 2023-04-10 16:01:47 -0400 (Mon, 10 Apr 2023) EndedAt: 2023-04-10 16:01:57 -0400 (Mon, 10 Apr 2023) EllapsedTime: 10.0 seconds RetCode: 0 Status: OK PackageFile: affycomp_1.74.0.tar.gz PackageFileSize: 7.868 MiB