Package: affycomp Version: 1.74.0 Command: /Library/Frameworks/R.framework/Resources/bin/R CMD check --install=check:affycomp.install-out.txt --library=/Library/Frameworks/R.framework/Resources/library --no-vignettes --timings affycomp_1.74.0.tar.gz StartedAt: 2023-04-10 18:44:06 -0400 (Mon, 10 Apr 2023) EndedAt: 2023-04-10 18:44:50 -0400 (Mon, 10 Apr 2023) EllapsedTime: 43.8 seconds RetCode: 0 Status: OK CheckDir: affycomp.Rcheck Warnings: 0