Package: affycomp Version: 1.74.0 Command: rm -rf affycomp.buildbin-libdir && mkdir affycomp.buildbin-libdir && /Users/biocbuild/BBS/utils/build-universal.sh affycomp_1.74.0.tar.gz /Library/Frameworks/R.framework/Resources/bin/R affycomp.buildbin-libdir StartedAt: 2023-04-10 23:31:39 -0400 (Mon, 10 Apr 2023) EndedAt: 2023-04-10 23:31:48 -0400 (Mon, 10 Apr 2023) EllapsedTime: 9.1 seconds RetCode: 0 Status: OK PackageFile: affycomp_1.74.0.tgz PackageFileSize: 8.105 MiB