Package: affxparser Version: 1.69.1 Command: /Library/Frameworks/R.framework/Resources/bin/R CMD INSTALL affxparser StartedAt: 2022-07-10 15:17:54 -0400 (Sun, 10 Jul 2022) EndedAt: 2022-07-10 15:20:38 -0400 (Sun, 10 Jul 2022) EllapsedTime: 164.6 seconds RetCode: 0 Status: OK