Package: adductomicsR Version: 1.14.0 Command: /Library/Frameworks/R.framework/Resources/bin/R CMD check --install=check:adductomicsR.install-out.txt --library=/Library/Frameworks/R.framework/Resources/library --no-vignettes --timings adductomicsR_1.14.0.tar.gz StartedAt: 2023-04-10 18:44:06 -0400 (Mon, 10 Apr 2023) EndedAt: 2023-04-10 18:47:28 -0400 (Mon, 10 Apr 2023) EllapsedTime: 202.2 seconds RetCode: 0 Status: WARNINGS CheckDir: adductomicsR.Rcheck Warnings: 1