Package: adductomicsR Version: 1.14.0 Command: rm -rf adductomicsR.buildbin-libdir && mkdir adductomicsR.buildbin-libdir && /Users/biocbuild/BBS/utils/build-universal.sh adductomicsR_1.14.0.tar.gz /Library/Frameworks/R.framework/Resources/bin/R adductomicsR.buildbin-libdir StartedAt: 2023-04-10 23:31:39 -0400 (Mon, 10 Apr 2023) EndedAt: 2023-04-10 23:32:14 -0400 (Mon, 10 Apr 2023) EllapsedTime: 35.0 seconds RetCode: 0 Status: OK PackageFile: adductomicsR_1.14.0.tgz PackageFileSize: 1.221 MiB