Package: adductomicsR Version: 1.13.0 Command: /Library/Frameworks/R.framework/Resources/bin/R CMD INSTALL adductomicsR StartedAt: 2022-07-10 19:33:36 -0400 (Sun, 10 Jul 2022) EndedAt: 2022-07-10 19:34:14 -0400 (Sun, 10 Jul 2022) EllapsedTime: 38.8 seconds RetCode: 0 Status: OK