Package: adductomicsR Version: 1.13.0 Command: /Library/Frameworks/R.framework/Resources/bin/R CMD build --keep-empty-dirs --no-resave-data adductomicsR StartedAt: 2022-07-10 20:00:07 -0400 (Sun, 10 Jul 2022) EndedAt: 2022-07-10 20:09:52 -0400 (Sun, 10 Jul 2022) EllapsedTime: 584.8 seconds RetCode: 0 Status: OK PackageFile: adductomicsR_1.13.0.tar.gz PackageFileSize: 752.2 KiB