Package: adSplit Version: 1.68.0 Command: /home/biocbuild/bbs-3.16-bioc/R/bin/R CMD check --install=check:adSplit.install-out.txt --library=/home/biocbuild/bbs-3.16-bioc/R/site-library --timings adSplit_1.68.0.tar.gz StartedAt: 2023-04-10 18:55:10 -0400 (Mon, 10 Apr 2023) EndedAt: 2023-04-10 19:02:08 -0400 (Mon, 10 Apr 2023) EllapsedTime: 418.6 seconds RetCode: 0 Status: OK CheckDir: adSplit.Rcheck Warnings: 0