Package: acde Version: 1.27.0 Command: /Library/Frameworks/R.framework/Resources/bin/R CMD build --keep-empty-dirs --no-resave-data acde StartedAt: 2022-07-10 19:57:33 -0400 (Sun, 10 Jul 2022) EndedAt: 2022-07-10 19:57:52 -0400 (Sun, 10 Jul 2022) EllapsedTime: 18.7 seconds RetCode: 0 Status: OK PackageFile: acde_1.27.0.tar.gz PackageFileSize: 8.876 MiB