Package: abseqR Version: 1.16.0 Command: F:\biocbuild\bbs-3.16-bioc\R\bin\R.exe CMD INSTALL abseqR StartedAt: 2023-04-10 15:59:10 -0400 (Mon, 10 Apr 2023) EndedAt: 2023-04-10 15:59:47 -0400 (Mon, 10 Apr 2023) EllapsedTime: 37.7 seconds RetCode: 0 Status: OK