Package: Xeva Version: 1.13.0 Command: /Library/Frameworks/R.framework/Resources/bin/R CMD build --keep-empty-dirs --no-resave-data Xeva StartedAt: 2022-07-07 07:21:10 -0400 (Thu, 07 Jul 2022) EndedAt: 2022-07-07 07:22:20 -0400 (Thu, 07 Jul 2022) EllapsedTime: 69.9 seconds RetCode: 0 Status: OK PackageFile: Xeva_1.13.0.tar.gz PackageFileSize: 1.163 MiB