Package: XINA Version: 1.16.0 Command: rm -rf XINA.buildbin-libdir && mkdir XINA.buildbin-libdir && F:\biocbuild\bbs-3.16-bioc\R\bin\R.exe CMD INSTALL --build --library=XINA.buildbin-libdir XINA_1.16.0.tar.gz StartedAt: 2023-04-11 08:59:09 -0400 (Tue, 11 Apr 2023) EndedAt: 2023-04-11 08:59:31 -0400 (Tue, 11 Apr 2023) EllapsedTime: 21.6 seconds RetCode: 0 Status: OK PackageFile: XINA_1.16.0.zip PackageFileSize: 1.323 MiB