Package: VarCon Version: 1.6.0 Command: F:\biocbuild\bbs-3.16-bioc\R\bin\R.exe CMD INSTALL VarCon StartedAt: 2023-04-10 16:18:00 -0400 (Mon, 10 Apr 2023) EndedAt: 2023-04-10 16:18:47 -0400 (Mon, 10 Apr 2023) EllapsedTime: 46.6 seconds RetCode: 0 Status: OK