Package: VarCon Version: 1.6.0 Command: rm -rf VarCon.buildbin-libdir && mkdir VarCon.buildbin-libdir && F:\biocbuild\bbs-3.16-bioc\R\bin\R.exe CMD INSTALL --build --library=VarCon.buildbin-libdir VarCon_1.6.0.tar.gz StartedAt: 2023-04-11 08:57:31 -0400 (Tue, 11 Apr 2023) EndedAt: 2023-04-11 08:58:18 -0400 (Tue, 11 Apr 2023) EllapsedTime: 47.9 seconds RetCode: 0 Status: OK PackageFile: VarCon_1.6.0.zip PackageFileSize: 1.997 MiB