Package: VAExprs Version: 1.4.0 Command: /home/biocbuild/bbs-3.16-bioc/R/bin/R CMD check --install=check:VAExprs.install-out.txt --library=/home/biocbuild/bbs-3.16-bioc/R/site-library --timings VAExprs_1.4.0.tar.gz StartedAt: 2023-04-11 00:45:09 -0400 (Tue, 11 Apr 2023) EndedAt: 2023-04-11 00:50:21 -0400 (Tue, 11 Apr 2023) EllapsedTime: 311.7 seconds RetCode: 0 Status: OK CheckDir: VAExprs.Rcheck Warnings: 0