Package: TOAST Version: 1.11.0 Command: /Library/Frameworks/R.framework/Resources/bin/R CMD build --keep-empty-dirs --no-resave-data TOAST StartedAt: 2022-07-07 06:41:38 -0400 (Thu, 07 Jul 2022) EndedAt: 2022-07-07 06:44:28 -0400 (Thu, 07 Jul 2022) EllapsedTime: 170.2 seconds RetCode: 0 Status: OK PackageFile: TOAST_1.11.0.tar.gz PackageFileSize: 3.58 MiB